View In:
ArcGIS JavaScript
ArcGIS Online Map Viewer
ArcGIS Earth
ArcMap
View Footprint In:
ArcGIS Online Map Viewer
Service Description: Earthquake/2018_National_Seismic_Hazard_Model
Name: Earthquake/2018_National_Seismic_Hazard_Model
Description:
Single Fused Map Cache: false
Extent:
XMin: -125.05119999999994
YMin: 24.348800000000033
XMax: -64.94239999999988
YMax: 50.05120000000005
Spatial Reference: 4326
(4326)
Initial Extent:
XMin: -125.05119999999994
YMin: 24.348800000000033
XMax: -64.94239999999988
YMax: 50.05120000000005
Spatial Reference: 4326
(4326)
Full Extent:
XMin: -125.05119999999994
YMin: 24.348800000000033
XMax: -64.94239999999988
YMax: 50.05120000000005
Spatial Reference: 4326
(4326)
Pixel Size X: 0.1024000000000001
Pixel Size Y: 0.10240000000000007
Band Count: 1
Pixel Type: F32
RasterFunction Infos: {"rasterFunctionInfos": [{
"name": "None",
"description": "",
"help": ""
}]}
Mensuration Capabilities: Basic
Has Histograms: true
Has Colormap: false
Has Multi Dimensions : false
Rendering Rule:
Min Scale: 0
Max Scale: 0
Copyright Text:
Service Data Type: esriImageServiceDataTypeGeneric
Min Values: 0.0023300000466406345
Max Values: 2.7649850845336914
Mean Values: 0.09139432165214725
Standard Deviation Values: 0.16758363672117374
Object ID Field:
Fields:
None
Default Mosaic Method: Center
Allowed Mosaic Methods:
SortField:
SortValue: null
Mosaic Operator: First
Default Compression Quality: 75
Default Resampling Method: Bilinear
Max Record Count: null
Max Image Height: 4100
Max Image Width: 15000
Max Download Image Count: null
Max Mosaic Image Count: null
Allow Raster Function: true
Allow Copy: true
Allow Analysis: true
Allow Compute TiePoints: false
Supports Statistics: false
Supports Advanced Queries: false
Use StandardizedQueries: true
Raster Type Infos:
Name: Raster Dataset
Description: Supports all ArcGIS Raster Datasets
Help:
Has Raster Attribute Table: false
Edit Fields Info: null
Ownership Based AccessControl For Rasters: null
Child Resources:
Info
Histograms
Statistics
Key Properties
Legend
Raster Function Infos
Supported Operations:
Export Image
Identify
Measure
Compute Histograms
Compute Statistics Histograms
Get Samples
Compute Class Statistics
Query Boundary
Compute Pixel Location
Validate
Project