View In:
ArcGIS JavaScript
ArcGIS Online Map Viewer
ArcGIS Earth
ArcMap
View Footprint In:
ArcGIS Online Map Viewer
Service Description: CoastalPlanning/Storm_Surge_Risk_Category_3
Name: CoastalPlanning/Storm_Surge_Risk_Category_3
Description:
Single Fused Map Cache: false
Extent:
XMin: -98.05986540280205
YMin: 24.491674407495893
XMax: -66.88545057790617
YMax: 46.395834868903805
Spatial Reference: 4269
(4269)
Initial Extent:
XMin: -98.05986540280205
YMin: 24.491674407495893
XMax: -66.88545057790617
YMax: 46.395834868903805
Spatial Reference: 4269
(4269)
Full Extent:
XMin: -98.05986540280205
YMin: 24.491674407495893
XMax: -66.88545057790617
YMax: 46.395834868903805
Spatial Reference: 4269
(4269)
Pixel Size X: 8.983152799999964E-5
Pixel Size Y: 8.983152799999964E-5
Band Count: 1
Pixel Type: U8
RasterFunction Infos: {"rasterFunctionInfos": [
{
"name": "None",
"description": "Make a Raster or Raster Dataset into a Function Raster Dataset.",
"help": ""
},
{
"name": "Storm Surge Template",
"description": "Symbology for Storm Surge",
"help": ""
}
]}
Mensuration Capabilities: Basic
Has Histograms: false
Has Colormap: false
Has Multi Dimensions : false
Rendering Rule:
Min Scale: 0
Max Scale: 0
Copyright Text:
Service Data Type: esriImageServiceDataTypeThematic
Min Values: 1
Max Values: 99
Mean Values: 11.550096691832
Standard Deviation Values: 13.681195140496
Object ID Field:
Fields:
None
Default Mosaic Method: Center
Allowed Mosaic Methods:
SortField:
SortValue: null
Mosaic Operator: First
Default Compression Quality: 75
Default Resampling Method: Bilinear
Max Record Count: null
Max Image Height: 4100
Max Image Width: 15000
Max Download Image Count: null
Max Mosaic Image Count: null
Allow Raster Function: true
Allow Copy: true
Allow Analysis: true
Allow Compute TiePoints: false
Supports Statistics: false
Supports Advanced Queries: false
Use StandardizedQueries: true
Raster Type Infos:
Name: Raster Dataset
Description: Supports all ArcGIS Raster Datasets
Help:
Has Raster Attribute Table: true
Edit Fields Info: null
Ownership Based AccessControl For Rasters: null
Child Resources:
Info
Raster Attribute Table
Statistics
Key Properties
Legend
Raster Function Infos
Supported Operations:
Export Image
Identify
Measure
Compute Histograms
Compute Statistics Histograms
Get Samples
Compute Class Statistics
Query Boundary
Compute Pixel Location
Validate
Project